BEGIN:VCALENDAR
VERSION:2.0
PRODID:-//AlterArt Festival - ECPv6.15.20//NONSGML v1.0//EN
CALSCALE:GREGORIAN
METHOD:PUBLISH
X-ORIGINAL-URL:https://alterartfestival.it
X-WR-CALDESC:Eventi per AlterArt Festival
REFRESH-INTERVAL;VALUE=DURATION:PT1H
X-Robots-Tag:noindex
X-PUBLISHED-TTL:PT1H
BEGIN:VTIMEZONE
TZID:Europe/Zurich
BEGIN:DAYLIGHT
TZOFFSETFROM:+0100
TZOFFSETTO:+0200
TZNAME:CEST
DTSTART:20230326T010000
END:DAYLIGHT
BEGIN:STANDARD
TZOFFSETFROM:+0200
TZOFFSETTO:+0100
TZNAME:CET
DTSTART:20231029T010000
END:STANDARD
BEGIN:DAYLIGHT
TZOFFSETFROM:+0100
TZOFFSETTO:+0200
TZNAME:CEST
DTSTART:20240331T010000
END:DAYLIGHT
BEGIN:STANDARD
TZOFFSETFROM:+0200
TZOFFSETTO:+0100
TZNAME:CET
DTSTART:20241027T010000
END:STANDARD
BEGIN:DAYLIGHT
TZOFFSETFROM:+0100
TZOFFSETTO:+0200
TZNAME:CEST
DTSTART:20250330T010000
END:DAYLIGHT
BEGIN:STANDARD
TZOFFSETFROM:+0200
TZOFFSETTO:+0100
TZNAME:CET
DTSTART:20251026T010000
END:STANDARD
END:VTIMEZONE
BEGIN:VEVENT
DTSTART;TZID=Europe/Zurich:20240521T080000
DTEND;TZID=Europe/Zurich:20240604T170000
DTSTAMP:20260424T173139
CREATED:20240129T105136Z
LAST-MODIFIED:20240129T105136Z
UID:29486-1716278400-1717520400@alterartfestival.it
SUMMARY:Residenza Artistica Internazionale Multidisciplinare
DESCRIPTION:Partecipano \nMARC VLEMMIX (Olanda) compagnia danza con Parkinson \nMARJO POSTMA (Olanda) artista tessile \nCOMPAGNIA DI TEATRO DANZA INTEGRATA DANCE.IN (Italia) \nPETRA BARTELS (Germania) artista tessile \nLa residenza della durata di 14 giorni ha lo scopo di far interagire diversi linguaggi artistici col fine di attivare un processo di attivismo nelle politiche culturali europee a favore di una giustizia ambientale attraverso una nova estetica nelle arti figurative integrate. \nIl primo Giugno dalle ore 16:00 conferenza e talk con gli artisti e a seguire condivisione del work in progress diel nuovo spettacolo ” H.O.P.E Trees”
URL:https://alterartfestival.it/programma/partecipano-marc-vlemmix-olanda-compagnia-danza-con-parkinson-marjo-postma-olanda-artista-tessile-compagnia-di-teatro-danza-integrata-dance-in-italia-petra-bartels-germania-art/
LOCATION:a.r.y.a Artistic yurt residence appennin\, frazione montaiate 10\, pergola\, pesaro urbino\, 61045\, Italia
CATEGORIES:Incontri in Yurta,Performance e spettacolo
ATTACH;FMTTYPE=image/png:https://alterartfestival.it/wp-content/uploads/2024/01/Progetto-senza-titolo.png
ORGANIZER;CN="Alter-Art Festival":MAILTO:ijshaamanka@gmail.com
END:VEVENT
BEGIN:VEVENT
DTSTART;TZID=Europe/Zurich:20240530T090000
DTEND;TZID=Europe/Zurich:20240602T180000
DTSTAMP:20260424T173139
CREATED:20240129T100324Z
LAST-MODIFIED:20240510T121716Z
UID:29476-1717059600-1717351200@alterartfestival.it
SUMMARY:"Beloging to spaces"
DESCRIPTION:Siete invitati a partecipare a un processo di lavoro guidato di quattro giorni all’aria aperta immersi nel verde \, nei dintorni della yurta di ” A.R.YA. Artist Residence yurt Appennin”\nDurante il processo  trascorreremo del tempo in quei luoghi e ambienti da cui ci sentiremo chiamati a stare\n Così si svolgeranno le giornate:\nSveglia al mattino in tenda o a letto. \nAlle 9:00  inizieremo una jam di danza all’aperto o nella yurta.\nDalle 10 alle 12  Faremo degli esercizi di gruppo all’aria aperta finalizzati a sintonizzarci (metterci in ascolto di?) con noi stessi e con l’ambiente. \nDalle 12.30 alle 14.30 pranzo. \nDopo pranzo lavoreremo individualmente o in piccoli gruppi scegliendo dei luoghi in cui cui stare e osservare applicando gli strumenti forniti durante la pratica del mattino. L’idea è di compiere un viaggio accordandosi con le frequenze del luogo e risuonando con esso. \nLa sera ci riuniremo nuovamente nella yurta prima di cena e ci mostreremo a vicenda ciò che abbiamo vissuto durante la giornata. Poi  ceneremo assieme  e\, se possibile\, anche conferenze sull’ambiente in cui viviamo e ci muoviamo. (???)\nIl processo è aperto e destinato a tutt* : attor*\, musicist*\, danzator*\, artist* visiv*\, amanti della natura\, agricoltor*… Il gruppo che parteciperà ai quattro giorni di laboratorio sarà composto da un massimo di 25 partecipanti.  Sarà possibile dormire in tenda o nella struttura adiacente (con prenotazione). \nI pasti saranno organizzati dallo staff. Mangeremo all’aperto\, tempo permettendo. Sarete  inoltre invitati a spegnere\, per quanto possibile\, i vostri dispositivi mobili durante i giorni di laboratorio in modo da far risuonare maggiormente l’ambiente del  qui ed ora. \n\n\n  \n  \n 
URL:https://alterartfestival.it/programma/percepisco-la-contact-improvisation-ci-come-una-piattaforma-per-lesplorazione-in-cui-i-danzatori-accettano-di-condividere-co-creare-un-ambiente-di-lavoro-che-permetta-ad-ognuno-di-seguire-il-pr/
LOCATION:a.r.y.a Artistic yurt residence appennin\, frazione montaiate 10\, pergola\, pesaro urbino\, 61045\, Italia
CATEGORIES:Incontri in Yurta,Laboratorio
ATTACH;FMTTYPE=image/jpeg:https://alterartfestival.it/wp-content/uploads/2024/01/yuri-natura.jpeg
ORGANIZER;CN="Alter-Art Festival":MAILTO:ijshaamanka@gmail.com
END:VEVENT
BEGIN:VEVENT
DTSTART;VALUE=DATE:20240602
DTEND;VALUE=DATE:20240603
DTSTAMP:20260424T173139
CREATED:20240423T185222Z
LAST-MODIFIED:20240423T185641Z
UID:29528-1717286400-1717372799@alterartfestival.it
SUMMARY:"Gnut" in concerto\,ingresso libero
DESCRIPTION:Nun te ne fa’ è il titolo del nuovo e quarto lavoro in studio di Gnut. \nCantautore napoletano che da anni calca le scene musicali seguendo il suo cammino\, unico e personale; un songwriting che fa incontrare Nick Drake e Elliot Smith con la tradizione cantautorale italiana e la canzone napoletana di Roberto Murolo. \nIl titolo in napoletano significa “non dare troppo peso ai problemi”. Un modo di dire che rappresenta anche una filosofia di vita che contraddistingue tutto il sud Italia e in particolare Napoli. \nNun te ne fa’\, è il risultato di un lavoro di scrittura che ha preso il via nel 2014\, grazie all’amicizia e ai forti legami artistici stretti con il poeta partenopeo Alessio Sollo e il singer songwriter inglese Piers Faccini. Quest’ultimo\, già produttore del secondo album di GNUT “Il rumore della luce”\, non solo é produttore e arrangiatore di questo disco ma accoglie GNUT nella sua etichetta Beating Drum dal 2018\, con l’uscita del vinile in edizione limitata dell’EP “Hear My Voice”. \nIn un contesto sociale e musicale sempre più “veloce” dedicare sette anni alla scrittura e alla realizzazione di un disco è qualcosa di profondamente anacronistico e forse\, proprio per questo\, rivoluzionario. \nScrivere per sopravvivere\, vivere per scrivere. Comporre e cantare è\, per Gnut\, cibo per l’anima. \nUn bisogno che è diventato ancora più urgente durante gli ultimi anni di isolamento. Nella atmosfera surreale\, a tratti da fine del mondo\, creare canzoni come cura contro i mali di quest’epoca è diventato essenziale. \nAll’ombra di una quercia secolare potremo ascoltare la sua raffinatezza in un contesto intimo e immerso nella natura. \npossibilità di ristoro e bevande \n  \n 
URL:https://alterartfestival.it/programma/gnut-in-concertoingresso-libero/
LOCATION:A.R.Y.A.\, Via Frazione Montaiate\, 10\, Pergola\, PU\, 61045\, Italia
CATEGORIES:Concerto
ATTACH;FMTTYPE=image/jpeg:https://alterartfestival.it/wp-content/uploads/2024/04/Foto-Solo-live-Gnut-1.jpg
ORGANIZER;CN="Alter-Art Festival":MAILTO:ijshaamanka@gmail.com
END:VEVENT
BEGIN:VEVENT
DTSTART;VALUE=DATE:20240629
DTEND;VALUE=DATE:20240630
DTSTAMP:20260424T173139
CREATED:20240129T111604Z
LAST-MODIFIED:20240129T111736Z
UID:29492-1719619200-1719705599@alterartfestival.it
SUMMARY:"Prendere il Volo" produzione della Compagnia Drogheria Rebelot spettacolo teatrale per bambini e adulti
DESCRIPTION:“Lo trovai sotto le piante di pomodori del nostro orto: fu subito amore\, quel tipo di amore che ti segna per la vita” \n“Prendere il volo”\, tratto dall’opera di Marina Marinelli e Silvia Molinari edito da Topipittori\, nasce con il desiderio di raccontare il rapporto che è possibile costruire sentendosi parte della stessa natura degli uccelli\, delle nuvole\, degli alberi. Lo spettacolo intende mettere in luce non solo il tema della protezione degli esseri più deboli\, ma a partire da questo abbracciare un discorso più ampio in cui la cura di ciò che ci circonda riflette la cura e la crescita di noi stessi. Zazì è una giovane artista immersa tra matite e colori\, che per vocazione fin da bambina accoglie gli uccellini caduti dal nido e li aiuta a prendere il volo. Una casa piena di semplice meraviglia dove\, tra magie d’ombra e animazione di figure\, prende vita la narrazione dell’incontro tra umano e volatile. \nLa compagnia:Dopo essersi diplomati nel 2015 ognuno ha portato avanti una ricerca in ambiti diversi\, per Miriam e Andrea Lopez in quello del teatro ragazzi e del teatro di figura e per Andrea Rizzo in quello della danza contemporanea.Quando nel 2019 frequentano “Animateria”\, corso di formazione per operatore esperto in tecniche e linguaggi del teatro di figura\, Miriam e Andrea L. decidono di creare una propria compagnia con la quale sperimentare quanto appreso\, con un’attenzione particolare al teatro d’ombre e alla commistione di linguaggi\, coinvolgendo quindi Andrea R. Tornare a lavorare insieme è un’occasione preziosa per mettere in condivisione quanto appreso separatamente ed esaltare così le capacità dei singoli in un progetto comune.Oltre alla ricerca teatrale conducono una sperimentazione di Video di Figura in cui\, creando una commistione tra il linguaggio del teatro di figura e il linguaggio cinematografico\, cercano di esaltarne le reciproche potenzialità. \nTeatro “Angel dal Foco” di Pergola ore 21:00 \ningresso unico € 5
URL:https://alterartfestival.it/programma/prendere-il-volo-tratto-dallopera-di-marina-marinelli-e-silvia-molinari-edito-da-topipittori-nasce-con-il-desiderio-di-raccontare-il-rapporto-che-e-possibile-costruire-sen/
LOCATION:Teatro “Angel Dal Foco”\, Via San Francesco d'Assisi\, Pergola\, Pesaro e Urbino (PU)\, 61045\, Italia
CATEGORIES:Performance e spettacolo
ATTACH;FMTTYPE=image/jpeg:https://alterartfestival.it/wp-content/uploads/2024/01/Prendereilvolo-DrogheriaRebelot.jpg
ORGANIZER;CN="Alter-Art Festival":MAILTO:ijshaamanka@gmail.com
END:VEVENT
END:VCALENDAR