BEGIN:VCALENDAR
VERSION:2.0
PRODID:-//AlterArt Festival - ECPv6.15.20//NONSGML v1.0//EN
CALSCALE:GREGORIAN
METHOD:PUBLISH
X-WR-CALNAME:AlterArt Festival
X-ORIGINAL-URL:https://alterartfestival.it
X-WR-CALDESC:Eventi per AlterArt Festival
REFRESH-INTERVAL;VALUE=DURATION:PT1H
X-Robots-Tag:noindex
X-PUBLISHED-TTL:PT1H
BEGIN:VTIMEZONE
TZID:Europe/Zurich
BEGIN:DAYLIGHT
TZOFFSETFROM:+0100
TZOFFSETTO:+0200
TZNAME:CEST
DTSTART:20220327T010000
END:DAYLIGHT
BEGIN:STANDARD
TZOFFSETFROM:+0200
TZOFFSETTO:+0100
TZNAME:CET
DTSTART:20221030T010000
END:STANDARD
BEGIN:DAYLIGHT
TZOFFSETFROM:+0100
TZOFFSETTO:+0200
TZNAME:CEST
DTSTART:20230326T010000
END:DAYLIGHT
BEGIN:STANDARD
TZOFFSETFROM:+0200
TZOFFSETTO:+0100
TZNAME:CET
DTSTART:20231029T010000
END:STANDARD
BEGIN:DAYLIGHT
TZOFFSETFROM:+0100
TZOFFSETTO:+0200
TZNAME:CEST
DTSTART:20240331T010000
END:DAYLIGHT
BEGIN:STANDARD
TZOFFSETFROM:+0200
TZOFFSETTO:+0100
TZNAME:CET
DTSTART:20241027T010000
END:STANDARD
BEGIN:DAYLIGHT
TZOFFSETFROM:+0100
TZOFFSETTO:+0200
TZNAME:CEST
DTSTART:20250330T010000
END:DAYLIGHT
BEGIN:STANDARD
TZOFFSETFROM:+0200
TZOFFSETTO:+0100
TZNAME:CET
DTSTART:20251026T010000
END:STANDARD
END:VTIMEZONE
BEGIN:VEVENT
DTSTART;VALUE=DATE:20240203
DTEND;VALUE=DATE:20240205
DTSTAMP:20260424T002537
CREATED:20240123T173555Z
LAST-MODIFIED:20240129T101614Z
UID:29248-1706918400-1707091199@alterartfestival.it
SUMMARY:L'arte del Fengh Shui TIbetano : design e architettura  in armonia con la natura e con il nostro spazio interiore
DESCRIPTION:Per il primo appuntamento di Alter Art approfondiremo l’equilibrio generato dall’ambiente in cui viviamo \, ad esempio la nostra casa \, e l’universo circostante attraverso la geomanzia tibetana.”Non c’è equilibrio davvero reale se l’ambiente in cui viviamo non è in salute e felice quanto il nostro corpo e la nostra mente. Se l’energia in cui siamo immersi costantemente e in maniera interdipendente non è armonizzata con l’universo intero e il nostro stesso corpo non possiamo beneficiare di una completa e duratura salute e felicità” cit.Dott.Nida Chenagtsang. \nConduce CInzia Tosoni \nCosto singola giornata 25€ per entrambe le giornate € 50 \nSabato 3 febbraio dalle 15:00 alle 19:00 \nDomenica 4 febbraio dalle ore 10:00 alle 13:00 e dalle 14:00 alle 15:30 presso A.R.Y.A. in via Frazione Montaiate\, 10. \n 
URL:https://alterartfestival.it/programma/larte-del-fengh-shui-tibetano-design-e-architettura-in-armonia-con-la-natura-e-con-il-nostro-spazio-interiore/
LOCATION:a.r.y.a Artistic yurt residence appennin\, frazione montaiate 10\, pergola\, pesaro urbino\, 61045\, Italia
CATEGORIES:Conferenza,Incontri in Yurta
ATTACH;FMTTYPE=image/jpeg:https://alterartfestival.it/wp-content/uploads/2024/01/geomanzia-1.jpg
ORGANIZER;CN="Alter-Art Festival":MAILTO:ijshaamanka@gmail.com
END:VEVENT
BEGIN:VEVENT
DTSTART;TZID=Europe/Zurich:20230709T220000
DTEND;TZID=Europe/Zurich:20230709T233000
DTSTAMP:20260424T002537
CREATED:20230606T155347Z
LAST-MODIFIED:20230702T154450Z
UID:29186-1688940000-1688945400@alterartfestival.it
SUMMARY:Festa Finale e concerto con "the fottutissimi"
DESCRIPTION:unica data a Pergola\, storica rock band del territorio ritorna con un live infuocato
URL:https://alterartfestival.it/programma/concerto-the-fottutissimi/
LOCATION:Piazza Garibaldi\, Piazza Garibaldi\, Pergola\, Pesaro e Urbino (PU)\, 61045\, Italia
CATEGORIES:Concerto
ATTACH;FMTTYPE=image/jpeg:https://alterartfestival.it/wp-content/uploads/2023/05/foto-fottutissimi.jpeg
ORGANIZER;CN="Alter-Art Festival":MAILTO:ijshaamanka@gmail.com
END:VEVENT
BEGIN:VEVENT
DTSTART;TZID=Europe/Zurich:20230709T210000
DTEND;TZID=Europe/Zurich:20230709T220000
DTSTAMP:20260424T002537
CREATED:20230515T105356Z
LAST-MODIFIED:20230606T213634Z
UID:29041-1688936400-1688940000@alterartfestival.it
SUMMARY:Performance Urban Dance e Hip-Hop con Red Friky Hey
DESCRIPTION:Performance di Urban dance Hip-Hop “Immagina se tu…anzi\, prova!” È uno spettacolo di danza street\, contemporanea e sperimentazione. Viaggia nella mente autistica\, raccontando l’ autismo attraverso il corpo\, la musica e le parole di una persona autistica: Red Friky Hey- \n\n\n\n\n 
URL:https://alterartfestival.it/programma/urban-dance-e-hip-hop-con-red-friky-hey-9-7-2023/
LOCATION:Piazza Garibaldi\, Piazza Garibaldi\, Pergola\, Pesaro e Urbino (PU)\, 61045\, Italia
CATEGORIES:Performance e spettacolo
ATTACH;FMTTYPE=image/jpeg:https://alterartfestival.it/wp-content/uploads/2023/05/red_alterart.jpeg
ORGANIZER;CN="Alter-Art Festival":MAILTO:ijshaamanka@gmail.com
END:VEVENT
BEGIN:VEVENT
DTSTART;TZID=Europe/Zurich:20230709T180000
DTEND;TZID=Europe/Zurich:20230709T190000
DTSTAMP:20260424T002537
CREATED:20230702T155021Z
LAST-MODIFIED:20230702T155035Z
UID:29240-1688925600-1688929200@alterartfestival.it
SUMMARY:Laboratorio di Urban Dance e Hip Hop con Red Frik Hey
DESCRIPTION:Laboratorio di Urban Dance Hip-Hop con Red Frik Hey
URL:https://alterartfestival.it/programma/laboratorio-di-urban-dance-e-hip-hop-con-red-frik-hey-2023/
LOCATION:Piazza Garibaldi\, Piazza Garibaldi\, Pergola\, Pesaro e Urbino (PU)\, 61045\, Italia
CATEGORIES:Laboratorio
END:VEVENT
BEGIN:VEVENT
DTSTART;TZID=Europe/Zurich:20230708T223000
DTEND;TZID=Europe/Zurich:20230708T235900
DTSTAMP:20260424T002537
CREATED:20230515T105144Z
LAST-MODIFIED:20230606T205908Z
UID:29038-1688855400-1688860740@alterartfestival.it
SUMMARY:Dj-set con Max Battaglia
DESCRIPTION:Dj set Indie pop/rock e elettronica
URL:https://alterartfestival.it/programma/dj-set-con-dj-pravda-e-balkan-grill-8-7-2023/
LOCATION:Piazza Ginevri\, Piazza Ginevri\, Pergola\, Pesaro e Urbino\, 61045\, Italia
CATEGORIES:Concerto
ATTACH;FMTTYPE=image/jpeg:https://alterartfestival.it/wp-content/uploads/2023/05/max-battaglia.jpeg
ORGANIZER;CN="Alter-Art Festival":MAILTO:ijshaamanka@gmail.com
END:VEVENT
BEGIN:VEVENT
DTSTART;TZID=Europe/Zurich:20230708T213000
DTEND;TZID=Europe/Zurich:20230708T223000
DTSTAMP:20260424T002537
CREATED:20230515T104718Z
LAST-MODIFIED:20230606T154911Z
UID:29036-1688851800-1688855400@alterartfestival.it
SUMMARY:Performance "Traditional Future"
DESCRIPTION:“Traditional Future”  \ncreazione : Akili studio/ Wayne McGregor; Danza e Coreografia : ANUANG’A Fernando Musica: Maasaï Vocals & moderna; Produzione : Pierre Cardin:Teatro-Danza Contemporanea. \nCome far evolvere la Tradizione di danza Masai verso la Modernità della Danza Contemporanea senza obliterare le sue tracce\, senza tradire le sue radici? \nSabato 8 luglio al teatro Angel dal Foco alle 21:30
URL:https://alterartfestival.it/programma/performance-traditional-future/
LOCATION:Teatro “Angel Dal Foco”\, Via San Francesco d'Assisi\, Pergola\, Pesaro e Urbino (PU)\, 61045\, Italia
CATEGORIES:Performance e spettacolo
ATTACH;FMTTYPE=image/webp:https://alterartfestival.it/wp-content/uploads/2023/05/performance-fernando.webp
ORGANIZER;CN="Alter-Art Festival":MAILTO:ijshaamanka@gmail.com
END:VEVENT
BEGIN:VEVENT
DTSTART;TZID=Europe/Zurich:20230708T193000
DTEND;TZID=Europe/Zurich:20230708T203000
DTSTAMP:20260424T002537
CREATED:20230515T104450Z
LAST-MODIFIED:20230606T213813Z
UID:29034-1688844600-1688848200@alterartfestival.it
SUMMARY:Performance "Danza con parkinson"
DESCRIPTION:Compagnia Mark Vlemmix Compagnia di danzatori con Parkinson Performance di Danza Contemporanea “Sparkling Dance” Loggiato Comunale alle 19:30.
URL:https://alterartfestival.it/programma/performance-danza-parkinson-8-7-2023/
LOCATION:Loggiato comunale\, Corso Giacomo Matteotti\, 53\, Pergola\, Pesaro e Urbino (PU)\, 61045\, Italia
CATEGORIES:Performance e spettacolo
ATTACH;FMTTYPE=image/jpeg:https://alterartfestival.it/wp-content/uploads/2023/05/mark_vlemmix_alterart_performance.jpeg
ORGANIZER;CN="Alter-Art Festival":MAILTO:ijshaamanka@gmail.com
END:VEVENT
BEGIN:VEVENT
DTSTART;TZID=Europe/Zurich:20230708T170000
DTEND;TZID=Europe/Zurich:20230708T190000
DTSTAMP:20260424T002537
CREATED:20230509T155715Z
LAST-MODIFIED:20230702T154559Z
UID:28958-1688835600-1688842800@alterartfestival.it
SUMMARY:Laboratorio di danza pedagogica creativa con Abby Page
DESCRIPTION:Bambini 4-9 anni insieme ai genitori con Abby Page (U.K)
URL:https://alterartfestival.it/programma/laboratorio-di-danza-pedagogica-creativa-8-7-2023/
LOCATION:Piazza Garibaldi\, Piazza Garibaldi\, Pergola\, Pesaro e Urbino (PU)\, 61045\, Italia
CATEGORIES:Laboratorio
ATTACH;FMTTYPE=image/jpeg:https://alterartfestival.it/wp-content/uploads/2023/05/abby-page-workshop-children-parents.jpeg
ORGANIZER;CN="Alter-Art Festival":MAILTO:ijshaamanka@gmail.com
END:VEVENT
BEGIN:VEVENT
DTSTART;TZID=Europe/Zurich:20230708T170000
DTEND;TZID=Europe/Zurich:20230708T180000
DTSTAMP:20260424T002537
CREATED:20230515T102831Z
LAST-MODIFIED:20230702T154350Z
UID:29029-1688835600-1688839200@alterartfestival.it
SUMMARY:Laboratorio di Hip-Hop con Red
DESCRIPTION:Laboratorio di Hip-Hop con Red \nSabato dalle 17:00 alle 18:00 presso le palestre dell’Istituto Binotti e domenica 18:00 alle 19:00 presso piazza Garibaldi (insieme a Cresh).
URL:https://alterartfestival.it/programma/hip-hop-con-red-2023/
LOCATION:Palestre Istituto Binotti\, Viale Martiri della Libertà\, 12\, Pergola\, Pesaro e Urbino (PU)\, 61045\, Italia
CATEGORIES:Laboratorio
ATTACH;FMTTYPE=image/jpeg:https://alterartfestival.it/wp-content/uploads/2023/05/red4.jpeg
ORGANIZER;CN="Alter-Art Festival":MAILTO:ijshaamanka@gmail.com
END:VEVENT
BEGIN:VEVENT
DTSTART;TZID=Europe/Zurich:20230708T110000
DTEND;TZID=Europe/Zurich:20230709T130000
DTSTAMP:20260424T002537
CREATED:20230509T152502Z
LAST-MODIFIED:20230606T211316Z
UID:28928-1688814000-1688907600@alterartfestival.it
SUMMARY:Laboratorio grafica illustrativa con Giulia Piras
DESCRIPTION:Laboratorio gratuito dai 13 anni in sù  rivolto all’illustrazione grafica d’autore \n8 luglio e 9 luglio dalle ore 11:00 alle ore 13:00 presso spazio “Officina Giovani”
URL:https://alterartfestival.it/programma/laboratorio-grafica-illustrativa-con-giulia-piras-8-9-luglio-2023/
LOCATION:Officina Giovani\, Corso Giacomo Matteotti\, 4\, Pergola\, Pesaro e Urbino (PU)\, 61045\, Italia
CATEGORIES:Laboratorio
ATTACH;FMTTYPE=image/jpeg:https://alterartfestival.it/wp-content/uploads/2023/05/giulia_piras_alterart.jpeg
ORGANIZER;CN="Alter-Art Festival":MAILTO:ijshaamanka@gmail.com
END:VEVENT
BEGIN:VEVENT
DTSTART;TZID=Europe/Zurich:20230708T000000
DTEND;TZID=Europe/Zurich:20230709T000000
DTSTAMP:20260424T002537
CREATED:20230515T103637Z
LAST-MODIFIED:20230702T154302Z
UID:29032-1688774400-1688860800@alterartfestival.it
SUMMARY:Laboratorio di Hip-Hop con Cresh
DESCRIPTION:Laboratorio di Hip-Hop con Cresh. \nSabato dalle 18:00 alle 19:00 presso le palestre dell’Istituto Binotti\, domenica dalle 19:00 alle 20:00 presso Piazza Garibaldi.
URL:https://alterartfestival.it/programma/laboratorio-di-hip-hop-con-cresh-2023/
LOCATION:pesaro urbino
CATEGORIES:Laboratorio
ATTACH;FMTTYPE=image/jpeg:https://alterartfestival.it/wp-content/uploads/2023/05/3-1.jpg
ORGANIZER;CN="Alter-Art Festival":MAILTO:ijshaamanka@gmail.com
END:VEVENT
BEGIN:VEVENT
DTSTART;TZID=Europe/Zurich:20230708T000000
DTEND;TZID=Europe/Zurich:20230709T000000
DTSTAMP:20260424T002537
CREATED:20230515T101130Z
LAST-MODIFIED:20230702T154211Z
UID:29027-1688774400-1688860800@alterartfestival.it
SUMMARY:Contact improvisation con Juri Konjar
DESCRIPTION:Laboratorio di Contact Improvisation con Juri Konjar. \nSabato e domenica\, dalle 11:00 alle 13:00 e dalle 15:30 alle 17:30\, presso le palestre dell’Istituto Binotti.
URL:https://alterartfestival.it/programma/contact-improvisation-con-juri-konjar-2023/
LOCATION:Palestre Istituto Binotti\, Viale Martiri della Libertà\, 12\, Pergola\, Pesaro e Urbino (PU)\, 61045\, Italia
CATEGORIES:Laboratorio
ATTACH;FMTTYPE=image/jpeg:https://alterartfestival.it/wp-content/uploads/2023/05/jurij-3.jpeg
ORGANIZER;CN="Alter-Art Festival":MAILTO:ijshaamanka@gmail.com
END:VEVENT
BEGIN:VEVENT
DTSTART;TZID=Europe/Zurich:20230707T213000
DTEND;TZID=Europe/Zurich:20230707T223000
DTSTAMP:20260424T002537
CREATED:20230515T095708Z
LAST-MODIFIED:20230606T205836Z
UID:29023-1688765400-1688769000@alterartfestival.it
SUMMARY:Goldberg Variation con Jurij Konjar
DESCRIPTION:Solo di Jurij Konjar \, un danzatore che ha collaborato con il fondatore della Contact Improvvisation Steve Paxton .”Goldber Variation”: una pratica di danza sull’osservazione\, la durata e il cambiamento\, ribaltando la performance solista di Steve Paxton\, Goldberg Variations presso il Teatro Angel dal Foco venerdì alle 21:30.
URL:https://alterartfestival.it/programma/goldberg-variation-con-jurij-konjar-7-luglio-2023/
LOCATION:Teatro “Angel Dal Foco”\, Via San Francesco d'Assisi\, Pergola\, Pesaro e Urbino (PU)\, 61045\, Italia
CATEGORIES:Performance e spettacolo
ATTACH;FMTTYPE=image/jpeg:https://alterartfestival.it/wp-content/uploads/2023/05/juri1-scaled.jpeg
ORGANIZER;CN="Alter-Art Festival":MAILTO:ijshaamanka@gmail.com
END:VEVENT
BEGIN:VEVENT
DTSTART;TZID=Europe/Zurich:20230707T184500
DTEND;TZID=Europe/Zurich:20230707T204500
DTSTAMP:20260424T002537
CREATED:20230509T153751Z
LAST-MODIFIED:20230606T210015Z
UID:28947-1688755500-1688762700@alterartfestival.it
SUMMARY:La danza contemporanea incontra la danza masai
DESCRIPTION:“La Danza Contemporanea incontra la Danza Masai” con il Coreografo Fernando Anuanga.
URL:https://alterartfestival.it/programma/la-danza-contemporanea-incontra-la-danza-masai-7-7-2023/
LOCATION:Piazza Garibaldi\, Piazza Garibaldi\, Pergola\, Pesaro e Urbino (PU)\, 61045\, Italia
CATEGORIES:Laboratorio
ATTACH;FMTTYPE=image/jpeg:https://alterartfestival.it/wp-content/uploads/2023/05/immagine-fernando-lab.jpeg
ORGANIZER;CN="Alter-Art Festival":MAILTO:ijshaamanka@gmail.com
END:VEVENT
BEGIN:VEVENT
DTSTART;TZID=Europe/Zurich:20230707T174500
DTEND;TZID=Europe/Zurich:20230707T183000
DTSTAMP:20260424T002537
CREATED:20230509T153751Z
LAST-MODIFIED:20230702T154011Z
UID:28945-1688751900-1688754600@alterartfestival.it
SUMMARY:Presentazione del progetto europeo CREARE - Creative Resiliant Shapers
DESCRIPTION:Intervengono “Alter Art” Festival\, Ijhshaamanka-Compagnia Dance in -Pergola \,Italia; “Aorca Lab” Festival di Nuova Danza -Lagos\, Portogallo; “Meteoriti” Festival di Arti Performative e Sostenibilità Ambientale Compagnia “Seine Ensamble” -Friskas \,Finlandia; “Rebel Teen Friday” Festival di Sala Fenix \, compagnia “La Ira Teatro” -Barcellona Spagna Chiesa Santa Maria \, Piazza Ginevri (gratuito)
URL:https://alterartfestival.it/programma/presentazione-progetto-europeo-creare-7-7-2023/
LOCATION:Piazza Ginevri\, Piazza Ginevri\, Pergola\, Pesaro e Urbino\, 61045\, Italia
CATEGORIES:Conferenza
ATTACH;FMTTYPE=image/png:https://alterartfestival.it/wp-content/uploads/2023/05/manifesto_alterart_2023.png
ORGANIZER;CN="Alter-Art Festival":MAILTO:ijshaamanka@gmail.com
END:VEVENT
BEGIN:VEVENT
DTSTART;TZID=Europe/Zurich:20230707T170000
DTEND;TZID=Europe/Zurich:20230707T174500
DTSTAMP:20260424T002537
CREATED:20230509T153751Z
LAST-MODIFIED:20230606T210504Z
UID:28951-1688749200-1688751900@alterartfestival.it
SUMMARY:Scienza applicata all'arte performativa
DESCRIPTION:Progetto Commissionato dalla Comunità Europea (Vet) \nPresentazione della Metodologia “DAN.za AcCEssibile INtegrata” e del progetto “Brain Dance Rehab – Le neuroscienze applicate alla danza” con neuroscienziata Hanna Poikonen e la coreografa Monia Mattioli.
URL:https://alterartfestival.it/programma/scienza-applicata-arte-performativa-7-7-2023/
LOCATION:Chiesa “Santa Maria di Piazza”\, Piazza Ginevri\, Pergola\, Pesaro e Urbino (PU)\, 61045\, Italia
CATEGORIES:Conferenza
ATTACH;FMTTYPE=image/jpeg:https://alterartfestival.it/wp-content/uploads/2023/05/hanna.jpeg
ORGANIZER;CN="Alter-Art Festival":MAILTO:ijshaamanka@gmail.com
END:VEVENT
BEGIN:VEVENT
DTSTART;TZID=Europe/Zurich:20230706T223000
DTEND;TZID=Europe/Zurich:20230706T233000
DTSTAMP:20260424T002537
CREATED:20230515T094628Z
LAST-MODIFIED:20230702T153845Z
UID:29018-1688682600-1688686200@alterartfestival.it
SUMMARY:Performing "No limit"
DESCRIPTION:Esito del progetto di ricerca in co-creazione tra produzione Ijshaamanka\, Compagnia Dance In (Pergola)\, Elevator Bunker (Verona)\, Rulli frulli (Finale Emilia). Finanziato dal fondo del Ministero della Cultura Boarding Pass giovedì alle 22:30 presso il teatro “Angel Dal Foco”.
URL:https://alterartfestival.it/programma/performing-no-limit-2023/
LOCATION:Teatro “Angel Dal Foco”\, Via San Francesco d'Assisi\, Pergola\, Pesaro e Urbino (PU)\, 61045\, Italia
CATEGORIES:Performance e spettacolo
ATTACH;FMTTYPE=image/jpeg:https://alterartfestival.it/wp-content/uploads/2023/05/elevator_bunker_alterart.jpeg
ORGANIZER;CN="Alter-Art Festival":MAILTO:ijshaamanka@gmail.com
END:VEVENT
BEGIN:VEVENT
DTSTART;TZID=Europe/Zurich:20230706T213000
DTEND;TZID=Europe/Zurich:20230706T223000
DTSTAMP:20260424T002537
CREATED:20230515T094925Z
LAST-MODIFIED:20230702T153819Z
UID:29020-1688679000-1688682600@alterartfestival.it
SUMMARY:Performance H.O.P.E.
DESCRIPTION:Prima nazionale di H.O.P.E. Performance di Danza e Teatro contemporaneo integrato con Compagnia Dance In di Pergola\, diretta da Monia Mattioli giovedì alle 21:30 presso il teatro “Angel Dal Foco”.
URL:https://alterartfestival.it/programma/performance-h-o-p-e/
LOCATION:Teatro “Angel Dal Foco”\, Via San Francesco d'Assisi\, Pergola\, Pesaro e Urbino (PU)\, 61045\, Italia
CATEGORIES:Performance e spettacolo
ATTACH;FMTTYPE=image/jpeg:https://alterartfestival.it/wp-content/uploads/2023/05/isole-di-plastica-scaled-e1614075950852.jpeg
ORGANIZER;CN="Alter-Art Festival":MAILTO:ijshaamanka@gmail.com
END:VEVENT
BEGIN:VEVENT
DTSTART;TZID=Europe/Zurich:20230706T000000
DTEND;TZID=Europe/Zurich:20230709T000000
DTSTAMP:20260424T002537
CREATED:20230702T155359Z
LAST-MODIFIED:20230702T155359Z
UID:29244-1688601600-1688860800@alterartfestival.it
SUMMARY:Mostra d'illustrazione di Giulia Piras
DESCRIPTION:Tutti i giorni dalle 11:00 alle 13:00 presso Officina Giovani. \nGiulia Piras vive e lavora a Sassoferrato in provincia di Ancona. Comincia i suoi studi all’Università Politecnica delle Marche presso la facoltà di scienze biologiche\, per via dei suoi interessi nelle scienze naturali. Successivamente si diploma all’Accademia di Belle Arti di Urbino e in seguito si specializza all’ISIA di Urbino in illustrazione e graphic design. Comincia dunque a lavorare nel settore editoriale pubblicando per case editrici come Rizzoli\, Mondadori e Settenove Edizioni. Collabora con magazine come Donna Moderna o il Foglio Sportivo e lavora nel campo della comunicazione per aziende e agenzie di advertising\, cercando di applicare l’illustrazione in diversi campi del panorama visivo. Si focalizza sulle grandi potenzialità comunicative delle immagini\, cercando di elaborare progetti dalle molteplici possibilità narrative. Nel2017 viene selezionata per il concorso dell’associazione Tapirulan\, nel 2018 per il concorso indetto da Lucca Junior\, nel 2019 per il Premio Renner per il contemporaneo\, nel 2021 vince il concorso “Digital Inclusion” indetto da Posterheroes e nel 2023 è selezionata per l’Annual di Autori di Immagini.
URL:https://alterartfestival.it/programma/mostra-dillustrazione-di-giulia-piras/
LOCATION:Officina Giovani\, Corso Giacomo Matteotti\, 4\, Pergola\, Pesaro e Urbino (PU)\, 61045\, Italia
CATEGORIES:Esposizione
ATTACH;FMTTYPE=image/jpeg:https://alterartfestival.it/wp-content/uploads/2023/05/6.jpg
END:VEVENT
BEGIN:VEVENT
DTSTART;TZID=Europe/Zurich:20230706T000000
DTEND;TZID=Europe/Zurich:20230709T000000
DTSTAMP:20260424T002537
CREATED:20230702T155203Z
LAST-MODIFIED:20230702T155203Z
UID:29242-1688601600-1688860800@alterartfestival.it
SUMMARY:Mostra fotografica - I volti della comunità resiliente
DESCRIPTION:I volti di chi a Pergola rappresenta la storia di artigiani e commercianti che ancora oggi rendono la bellissima città di Pergola un luogo denso di storia e cultura. I volti ritratti nelle foto dalla giovanissima fotografa Asia Scardapane del Liceo Mannucci di Fabriano\, sono in grado di raccontare il senso di comunità e di accoglienza che questa città è ancora in grado di dare .Una mostra che ribadisce il messaggio di come i luoghi rurali e periferici alle grandi città siano il vero DNA dell’Italia\, dove la qualità della vita è in sintonia con la natura e va oltre il limite del PIL economico .
URL:https://alterartfestival.it/programma/mostra-fotografica-i-volti-della-comunita-resiliente/
LOCATION:pesaro urbino
CATEGORIES:Esposizione
END:VEVENT
BEGIN:VEVENT
DTSTART;TZID=Europe/Zurich:20230706T000000
DTEND;TZID=Europe/Zurich:20230709T000000
DTSTAMP:20260424T002537
CREATED:20230510T135829Z
LAST-MODIFIED:20230702T153534Z
UID:28963-1688601600-1688860800@alterartfestival.it
SUMMARY:Danza classica bimbi con Giulia Simontacchi
DESCRIPTION:Laboratorio di danza classica bimbi con Giulia Simontacchi. \nGiovedi dalle 18:00 alle 19:00\, venerdi 17:30 alle 18:30\, sabato dalle 16:30 alle 17:30 e domenica dalle 16:00 alle 17:00 presso le palestre dell’Istituto Binotti.
URL:https://alterartfestival.it/programma/danza-classica-bimbi-con-giulia-simontacchi/
LOCATION:Palestre Istituto Binotti\, Viale Martiri della Libertà\, 12\, Pergola\, Pesaro e Urbino (PU)\, 61045\, Italia
CATEGORIES:Laboratorio
ATTACH;FMTTYPE=image/jpeg:https://alterartfestival.it/wp-content/uploads/2023/05/giulia_simontacchi_alterart.jpeg
ORGANIZER;CN="Alter-Art Festival":MAILTO:ijshaamanka@gmail.com
END:VEVENT
BEGIN:VEVENT
DTSTART;TZID=Europe/Zurich:20230706T000000
DTEND;TZID=Europe/Zurich:20230709T000000
DTSTAMP:20260424T002537
CREATED:20230510T135609Z
LAST-MODIFIED:20230702T153359Z
UID:28961-1688601600-1688860800@alterartfestival.it
SUMMARY:Danza classica avanzata con Giulia Simontacchi
DESCRIPTION:Laboratorio di danza classica avanzata con Giulia Simontacchi. \nGiovedi dalle 16:00 alle 17:30\, venerdi dalle 15:00 alle 16:30\, sabato dalle 18:00 alle 19:30 e domenica dalle 17:00 alle 18:30 presso le palestre dell’Istituto Binotti.
URL:https://alterartfestival.it/programma/danza-classica-avanzata-con-giulia-simontacchi/
LOCATION:Palestre Istituto Binotti\, Viale Martiri della Libertà\, 12\, Pergola\, Pesaro e Urbino (PU)\, 61045\, Italia
CATEGORIES:Laboratorio
ORGANIZER;CN="Alter-Art Festival":MAILTO:ijshaamanka@gmail.com
END:VEVENT
BEGIN:VEVENT
DTSTART;TZID=Europe/Zurich:20230706T000000
DTEND;TZID=Europe/Zurich:20230709T000000
DTSTAMP:20260424T002537
CREATED:20230509T153014Z
LAST-MODIFIED:20230606T190642Z
UID:28941-1688601600-1688860800@alterartfestival.it
SUMMARY:Vedere Oltre - I Fiori di tarassaco
DESCRIPTION:Terza mostra dell’indirizzo Audiovisivo e multimediale del Liceo Artistico “E. Mannucci” di Fabriano\, come proseguo del suo viaggio verso l’inclusione e l’accettazione dell’altro.
URL:https://alterartfestival.it/programma/vedere-oltre-i-fiori-di-tarassaco/
LOCATION:Sala San Rocco\, Via Silvio Pellico\, 15\, Pergola\, Pesaro e Urbino (PU)\, 61045\, Italia
CATEGORIES:Esposizione
ATTACH;FMTTYPE=image/jpeg:https://alterartfestival.it/wp-content/uploads/2023/05/i_fiori_di_tarassaco_alterart_locandina.jpeg
ORGANIZER;CN="Alter-Art Festival":MAILTO:ijshaamanka@gmail.com
END:VEVENT
BEGIN:VEVENT
DTSTART;TZID=Europe/Zurich:20230706T000000
DTEND;TZID=Europe/Zurich:20230708T000000
DTSTAMP:20260424T002537
CREATED:20230515T090218Z
LAST-MODIFIED:20230606T190515Z
UID:29011-1688601600-1688774400@alterartfestival.it
SUMMARY:Danza per parkinson con Mark Vlemmix
DESCRIPTION:Laboratorio di danza con Mark Vlemmix. \nGiovedì\, venerdì e sabato dalle 11:00 alle 13:00 presso palestre plesso scolastico “Binotti”e dalle 15:00 alle 17:00 presso il Foyer del Teatro “Angel Dal Foco”.
URL:https://alterartfestival.it/programma/danza-per-parkinson-con-mark-vlemmix-2023/
LOCATION:Teatro “Angel Dal Foco”\, Via San Francesco d'Assisi\, Pergola\, Pesaro e Urbino (PU)\, 61045\, Italia
CATEGORIES:Laboratorio
ATTACH;FMTTYPE=image/jpeg:https://alterartfestival.it/wp-content/uploads/2023/05/mark_vlemmix_alterart.jpeg
ORGANIZER;CN="Alter-Art Festival":MAILTO:ijshaamanka@gmail.com
END:VEVENT
BEGIN:VEVENT
DTSTART;TZID=Europe/Zurich:20230706T000000
DTEND;TZID=Europe/Zurich:20230707T000000
DTSTAMP:20260424T002537
CREATED:20230515T093109Z
LAST-MODIFIED:20230606T204824Z
UID:29016-1688601600-1688688000@alterartfestival.it
SUMMARY:Danza contemporanea con Abby Page (avanzato)
DESCRIPTION:Laboratorio di danza contemporanea per bambini con Abby Page. \nGiovedì dalle 18:00 alle 19:30\, venerdì dalle 17:00 alle 18:30 presso le palestre dell’Istituto Binotti.
URL:https://alterartfestival.it/programma/danza-contemporanea-con-abby-page-avanzato-2023/
LOCATION:Palestre Istituto Binotti\, Viale Martiri della Libertà\, 12\, Pergola\, Pesaro e Urbino (PU)\, 61045\, Italia
CATEGORIES:Laboratorio
ATTACH;FMTTYPE=image/jpeg:https://alterartfestival.it/wp-content/uploads/2023/05/abby_page_alterart_contemporanea-e1684313328907.jpeg
ORGANIZER;CN="Alter-Art Festival":MAILTO:ijshaamanka@gmail.com
END:VEVENT
BEGIN:VEVENT
DTSTART;TZID=Europe/Zurich:20230706T000000
DTEND;TZID=Europe/Zurich:20230707T000000
DTSTAMP:20260424T002537
CREATED:20230515T092917Z
LAST-MODIFIED:20230518T085136Z
UID:29014-1688601600-1688688000@alterartfestival.it
SUMMARY:Danza contemporanea con Abby Page (bimbi)
DESCRIPTION:Laboratorio di danza contemporanea per bambini e ragazzi intermedio avanzato con Abby Page. \nGiovedì dalle 16:30 alle 17:30\, venerdì dalle 16:00 alle 17:00 presso le palestre dell’Istituto Binotti.
URL:https://alterartfestival.it/programma/danza-contemporanea-con-abby-page-bimbi-2023/
LOCATION:Palestre Istituto Binotti\, Viale Martiri della Libertà\, 12\, Pergola\, Pesaro e Urbino (PU)\, 61045\, Italia
CATEGORIES:Laboratorio
ORGANIZER;CN="Alter-Art Festival":MAILTO:ijshaamanka@gmail.com
END:VEVENT
END:VCALENDAR