BEGIN:VCALENDAR
VERSION:2.0
PRODID:-//AlterArt Festival - ECPv6.15.20//NONSGML v1.0//EN
CALSCALE:GREGORIAN
METHOD:PUBLISH
X-WR-CALNAME:AlterArt Festival
X-ORIGINAL-URL:https://alterartfestival.it
X-WR-CALDESC:Eventi per AlterArt Festival
REFRESH-INTERVAL;VALUE=DURATION:PT1H
X-Robots-Tag:noindex
X-PUBLISHED-TTL:PT1H
BEGIN:VTIMEZONE
TZID:Europe/Zurich
BEGIN:DAYLIGHT
TZOFFSETFROM:+0100
TZOFFSETTO:+0200
TZNAME:CEST
DTSTART:20230326T010000
END:DAYLIGHT
BEGIN:STANDARD
TZOFFSETFROM:+0200
TZOFFSETTO:+0100
TZNAME:CET
DTSTART:20231029T010000
END:STANDARD
BEGIN:DAYLIGHT
TZOFFSETFROM:+0100
TZOFFSETTO:+0200
TZNAME:CEST
DTSTART:20240331T010000
END:DAYLIGHT
BEGIN:STANDARD
TZOFFSETFROM:+0200
TZOFFSETTO:+0100
TZNAME:CET
DTSTART:20241027T010000
END:STANDARD
BEGIN:DAYLIGHT
TZOFFSETFROM:+0100
TZOFFSETTO:+0200
TZNAME:CEST
DTSTART:20250330T010000
END:DAYLIGHT
BEGIN:STANDARD
TZOFFSETFROM:+0200
TZOFFSETTO:+0100
TZNAME:CET
DTSTART:20251026T010000
END:STANDARD
BEGIN:DAYLIGHT
TZOFFSETFROM:+0100
TZOFFSETTO:+0200
TZNAME:CEST
DTSTART:20260329T010000
END:DAYLIGHT
BEGIN:STANDARD
TZOFFSETFROM:+0200
TZOFFSETTO:+0100
TZNAME:CET
DTSTART:20261025T010000
END:STANDARD
END:VTIMEZONE
BEGIN:VEVENT
DTSTART;TZID=Europe/Zurich:20241007T080000
DTEND;TZID=Europe/Zurich:20241013T170000
DTSTAMP:20260425T134951
CREATED:20241105T165504Z
LAST-MODIFIED:20241105T165504Z
UID:29583-1728288000-1728838800@alterartfestival.it
SUMMARY:Drogheria Rebelot-residenza artistica presso A.R.Y.A Artistic Residence Yurt Appennine
DESCRIPTION:Con grande piacere abbiamo ospitato per una intera settimana la compagnia di teatro di figura Drogheria Rebelot di Milano in collaborazione con Fondazione TRG di Torino all’interno del bando accessibilità del Ministero della Cultura Italiano.In questa settimana di intenso lavoro Andre Rizzo\,Andrea Munes e Miriam Castamagna hanno lavorato a fianco della coreografa Monia Mattioli e i componenti della compagnia Dance In per migliorare e ampliare l’offerta artistica dello spettacolo Hope Trees che circuiterà sul territorio italiano nel 2025 .
URL:https://alterartfestival.it/programma/drogheria-rebelot-residenza-artistica-presso-a-r-y-a-artistic-residence-yurt-appennine/
LOCATION:A.R.Y.A.\, Via Frazione Montaiate\, 10\, Pergola\, PU\, 61045\, Italia
CATEGORIES:Incontri in Yurta,Laboratorio
ATTACH;FMTTYPE=image/jpeg:https://alterartfestival.it/wp-content/uploads/2024/11/foto-di-gruppo.jpg
END:VEVENT
BEGIN:VEVENT
DTSTART;TZID=Europe/Zurich:20250426T160000
DTEND;TZID=Europe/Zurich:20250427T200000
DTSTAMP:20260425T134951
CREATED:20250414T181343Z
LAST-MODIFIED:20250414T201328Z
UID:29592-1745683200-1745784000@alterartfestival.it
SUMMARY:“Los Escultores del Aire”  compagnia da Barcellona Artista del Cirque du Soleil
DESCRIPTION:Laboratorio condotto da Mayo Rojas e Raffaella Caprio(max 20 posti) \nsabato 26 aprile dalle 16 alle 20 presso la sede ijshaamanka di via Pierelli 9 Senigallia \ndomenica dalle 14 alle 18  presso auditorium S.Rocco di Senigallia \na seguire dalle 19 esito perfromativo con i corsisti. \n  \nVivere un lutto emotivo\, dovuto alla morte di una persona cara\, a una rottura\, a un abbandono o a una partenza indesiderata\, significa provare profonda tristezza.Nell’adolescenza l’impatto di esperienze di questo tipo viene vissuto in modo amplificato\, pertanto generare dibattito\, sensibilizzare e sostenere i giovani su questo tema è essenziale per la loro salute emotiva.”
URL:https://alterartfestival.it/programma/los-escultores-del-aire-compagnia-da-barcellona-artista-del-cirque-du-soleil/
LOCATION:Auditorium S.Rocco\,Senigallia\, Senigallia
CATEGORIES:Laboratorio,Performance e spettacolo
ATTACH;FMTTYPE=image/jpeg:https://alterartfestival.it/wp-content/uploads/2025/04/Galeria-13-1.jpg
END:VEVENT
BEGIN:VEVENT
DTSTART;TZID=Europe/Zurich:20250517T080000
DTEND;TZID=Europe/Zurich:20250518T183000
DTSTAMP:20260425T134951
CREATED:20250414T182059Z
LAST-MODIFIED:20250414T201308Z
UID:29596-1747468800-1747593000@alterartfestival.it
SUMMARY:Agricoltura del Non Fare  con Kutluhan Özdemir
DESCRIPTION:17 e 18 maggio Laboratorio di Agricoltura Naturale secondo Masanobu Fukuoka presso \nSabato sera Proiezione del FIlm di Peter Wohlleben “La vita segreta degli alberi“ \npresso A.r.y.a Artist Residence Yurt Appennin \nPer iscrizioni mandare email a:  ijshaamanka@gmail.com \nvia Fraz.Montaiate 10 – Pergola (PU)
URL:https://alterartfestival.it/programma/agricoltura-del-non-fare-con-kutluhan-ozdemir/
LOCATION:a.r.y.a Artistic yurt residence appennin\, frazione montaiate 10\, pergola\, pesaro urbino\, 61045\, Italia
CATEGORIES:Conferenza,Laboratorio
ATTACH;FMTTYPE=image/jpeg:https://alterartfestival.it/wp-content/uploads/2025/04/DSCN0691-scaled.jpg
ORGANIZER;CN="Alter-Art Festival":MAILTO:ijshaamanka@gmail.com
END:VEVENT
BEGIN:VEVENT
DTSTART;TZID=Europe/Zurich:20250531T210000
DTEND;TZID=Europe/Zurich:20250531T223000
DTSTAMP:20260425T134951
CREATED:20250414T183108Z
LAST-MODIFIED:20250414T201228Z
UID:29600-1748725200-1748730600@alterartfestival.it
SUMMARY:Restituzione al pubblico Teatro Laboratorio di Senigallia a cura di Luciano Menotta
DESCRIPTION:La restituzione al pubblico del corso teatrale guidato da Luciano Menotta \nUn occasione per condividere con il pubblico il percorso durato 8 mesi \nCorinaldo 31 maggio ore 21:00 presso Teatro di Prossimità “ mi la Danse” sede ijshaamanka via Raffaello sanzio n.16 \ningresso libero
URL:https://alterartfestival.it/programma/restituzione-al-pubblico-teatro-laboratorio-di-senigallia-a-cura-di-luciano-menotta/
LOCATION:sede teatro di prossimità  ijshaamanka\, raffaello sanzio n.16\, corinaldo
CATEGORIES:Performance e spettacolo
ATTACH;FMTTYPE=image/jpeg:https://alterartfestival.it/wp-content/uploads/2025/04/WhatsApp-Image-2025-02-25-at-14.37.24-1.jpeg
ORGANIZER;CN="Alter-Art Festival":MAILTO:ijshaamanka@gmail.com
END:VEVENT
BEGIN:VEVENT
DTSTART;TZID=Europe/Zurich:20250713T180000
DTEND;TZID=Europe/Zurich:20250713T193000
DTSTAMP:20260425T134951
CREATED:20250414T194226Z
LAST-MODIFIED:20250414T201210Z
UID:29605-1752429600-1752435000@alterartfestival.it
SUMMARY:Laura Tangherlini inviata di Rainews24
DESCRIPTION:13 Luglio Pergola ore 18:00 \nChiesa San Rocco\,via Silvio Pellico n.15 \nIngresso libero \ninviata per la realizzazione di reportage \, tra i temi affrontati il racconto fronte Ucraino\,la caduta di Assad in Siria \,il racconto dei profughi siriani in Cisgiordania e Gaza \, conflitto del confine Usa/Messico \nPresentazione del libro “Matrimonio siriano\, un nuovo viaggio”
URL:https://alterartfestival.it/programma/laura-tangherlini-inviata-di-rainews24/
LOCATION:Sala San Rocco\, Via Silvio Pellico\, 15\, Pergola\, Pesaro e Urbino (PU)\, 61045\, Italia
CATEGORIES:Conferenza
ATTACH;FMTTYPE=image/jpeg:https://alterartfestival.it/wp-content/uploads/2025/04/images-14.jpeg
ORGANIZER;CN="Alter-Art Festival":MAILTO:ijshaamanka@gmail.com
END:VEVENT
BEGIN:VEVENT
DTSTART;TZID=Europe/Zurich:20250713T210000
DTEND;TZID=Europe/Zurich:20250713T223000
DTSTAMP:20260425T134951
CREATED:20250414T195031Z
LAST-MODIFIED:20250414T201152Z
UID:29610-1752440400-1752445800@alterartfestival.it
SUMMARY:“H.o.p.e Trees”  Performance compagnia Dan.ce.In
DESCRIPTION:13 Luglio Pergola ore 21:00 \nTeatro “Angel dal Foco” \ningresso libero \n“H.o.p.e Trees” \nPerformance tappa del progetto “Forma Plurale” progetto Finanziato e Patrocinato dal Ministero della cultura in ambito dell’accessibilità per lo spettacolo dal vivo di artisti con disabilità.
URL:https://alterartfestival.it/programma/h-o-p-e-trees-performance-compagnia-dan-ce-in/
LOCATION:Teatro “Angel Dal Foco”\, Via San Francesco d'Assisi\, Pergola\, Pesaro e Urbino (PU)\, 61045\, Italia
CATEGORIES:Performance e spettacolo
ATTACH;FMTTYPE=image/jpeg:https://alterartfestival.it/wp-content/uploads/2025/04/DSC4126-Enhanced-NR.jpg
END:VEVENT
BEGIN:VEVENT
DTSTART;TZID=Europe/Zurich:20250715T090000
DTEND;TZID=Europe/Zurich:20250718T170000
DTSTAMP:20260425T134951
CREATED:20250414T195711Z
LAST-MODIFIED:20250414T195711Z
UID:29613-1752570000-1752858000@alterartfestival.it
SUMMARY:Residenza artistica con Ludovico Paladini
DESCRIPTION:Ludovico Paladini Coreografo Danzatore dal 15 al 18 Luglio \nTematica di approfondimento \n“Presenza Performativa e percezione del tempo e dello spazio in natura e non” vincitore Bando Per Chi Crea 2024- \ndiplomato Manufacture (Lausanne Svizzera) artista associato “Le Ribot” \nartista sostenuto da -Marche Teatro – Oriente Occidente -Fuori Margine Festival -Alter Art Festival
URL:https://alterartfestival.it/programma/residenza-artistica-con-ludovico-paladini/
LOCATION:a.r.y.a Artistic yurt residence appennin\, frazione montaiate 10\, pergola\, pesaro urbino\, 61045\, Italia
CATEGORIES:Laboratorio
ATTACH;FMTTYPE=image/jpeg:https://alterartfestival.it/wp-content/uploads/2025/04/1658757971-ludovico-paladini_residenza-2022_4-scaled.jpg
ORGANIZER;CN="Alter-Art Festival":MAILTO:ijshaamanka@gmail.com
END:VEVENT
BEGIN:VEVENT
DTSTART;TZID=Europe/Zurich:20250719T080000
DTEND;TZID=Europe/Zurich:20250720T170000
DTSTAMP:20260425T134951
CREATED:20250414T200337Z
LAST-MODIFIED:20250414T201245Z
UID:29619-1752912000-1753030800@alterartfestival.it
SUMMARY:Josephine Nightingale laboratorio voce
DESCRIPTION:al 19 al 20 luglio \nJosephine Nightingale \nWorkshop Intensivo di voce e movimento estatico corporeo \ndiretto dalla cantautrice artista performer (U.K- Portogallo)
URL:https://alterartfestival.it/programma/josephine-nightingale-alboratorio-voce/
LOCATION:a.r.y.a Artistic yurt residence appennin\, frazione montaiate 10\, pergola\, pesaro urbino\, 61045\, Italia
CATEGORIES:Laboratorio
ATTACH;FMTTYPE=image/jpeg:https://alterartfestival.it/wp-content/uploads/2025/04/josepine.jpeg
END:VEVENT
BEGIN:VEVENT
DTSTART;TZID=Europe/Zurich:20250719T100000
DTEND;TZID=Europe/Zurich:20250720T180000
DTSTAMP:20260425T134951
CREATED:20250414T200051Z
LAST-MODIFIED:20250414T200051Z
UID:29616-1752919200-1753034400@alterartfestival.it
SUMMARY:Residenza con Narendra Patil
DESCRIPTION:Narendra Patil Danzatore Coreografo \nDocente dell’ Università di danza di Francoforte \nWorkshop Intensivo di danza contemporanea metodo Indyflow contemporary \, Floor Work ; Flying Low e Passing Throught
URL:https://alterartfestival.it/programma/residenza-con-narendra-patil/
LOCATION:a.r.y.a Artistic yurt residence appennin\, frazione montaiate 10\, pergola\, pesaro urbino\, 61045\, Italia
CATEGORIES:Laboratorio
ATTACH;FMTTYPE=image/jpeg:https://alterartfestival.it/wp-content/uploads/2025/04/download-8.jpeg
END:VEVENT
BEGIN:VEVENT
DTSTART;TZID=Europe/Zurich:20250719T210000
DTEND;TZID=Europe/Zurich:20250719T230000
DTSTAMP:20260425T134951
CREATED:20250414T200647Z
LAST-MODIFIED:20250414T201040Z
UID:29623-1752958800-1752966000@alterartfestival.it
SUMMARY:Concerto di Andrea Cubeddu
DESCRIPTION:19 luglio \n\n\n\nChiesa San Rocco\, via Silvio Pellico n.15 PERGOLA \n\n\n\nore 21:00 \nconferenza e Talk con gli artisti Ludovico Paladini -(Svizzera-Italia) \nNarendra Patil (India-Germania) e con la musicista e cantante Josephine Nightingale (Inghilterra-Portogallo) \n\n\n\nore 21:30 \n\n\n\nConcerto di Andrea Cubeddu \n\n\n\nAndrea Cubeddu è un cantautore sardo del ‘93. \n\n\nGirovago instancabile\, canta le sue canzoni in lungo e in largo per la penisola. I brani contenuti nel suo ultimo lavoro\, Terraferma (2024) nascono dall’esigenza di coltivare il dubbio\, quella forza che ci scuote da dentro\, come un violento terremoto\, e fa tremare tutte le idee sulle quali costruiamo la nostra vita. Terraferma parla di responsabilità ed amore\, verso di sé e verso il prossimo\, di perigliosi viaggi e sentieri tortuosi\, quanto di mete agognate e porti sicuri. \n\n\nLa sua musica è figlia di commistioni di canti nuovi ed antichi. Infine\, il richiamo del mare e della terra d’origine\, lascia certamente traccia in questo nuovo lavoro.
URL:https://alterartfestival.it/programma/29623/
LOCATION:Sala San Rocco\, Via Silvio Pellico\, 15\, Pergola\, Pesaro e Urbino (PU)\, 61045\, Italia
CATEGORIES:Concerto,Conferenza
ATTACH;FMTTYPE=image/jpeg:https://alterartfestival.it/wp-content/uploads/2025/04/IMG_20200708_225454_282.jpg
END:VEVENT
BEGIN:VEVENT
DTSTART;TZID=Europe/Zurich:20250720T193000
DTEND;TZID=Europe/Zurich:20250720T233000
DTSTAMP:20260425T134951
CREATED:20250414T200918Z
LAST-MODIFIED:20250414T201128Z
UID:29626-1753039800-1753054200@alterartfestival.it
SUMMARY:Concerto di Josephine Nightingale
DESCRIPTION:ore 19:30 Performance Danza Teatro \n“leftovers” di e con Ludovico Paladini \nore 21:00 Esito performativo con i danzatori del workshop e con il coreografo Narendra Patil \nore 21:00 Esito del laboratorio voce e musica diretto da Josephine Nightingale \n21:30 Concerto di Josephine Nightingale \nartista britannica di origini Jamaicane \,Interprete e cantautrice di musica jazz contemporanea con un forte background familiare legato alla musica .I suoi testi sono in grado di stimolare una forte consapevolezza delle radici che legano l’uomo alla Natura. \nLa sua voce potente e la sua presenza scenica magnetizzante evoca grandi cantautori come Janis Joplin
URL:https://alterartfestival.it/programma/29626/
LOCATION:a.r.y.a Artistic yurt residence appennin\, frazione montaiate 10\, pergola\, pesaro urbino\, 61045\, Italia
CATEGORIES:Concerto,Performance e spettacolo
ATTACH;FMTTYPE=image/jpeg:https://alterartfestival.it/wp-content/uploads/2025/04/josepine-2.jpeg
END:VEVENT
END:VCALENDAR