BEGIN:VCALENDAR
VERSION:2.0
PRODID:-//AlterArt Festival - ECPv6.15.20//NONSGML v1.0//EN
CALSCALE:GREGORIAN
METHOD:PUBLISH
X-ORIGINAL-URL:https://alterartfestival.it
X-WR-CALDESC:Eventi per AlterArt Festival
REFRESH-INTERVAL;VALUE=DURATION:PT1H
X-Robots-Tag:noindex
X-PUBLISHED-TTL:PT1H
BEGIN:VTIMEZONE
TZID:Europe/Zurich
BEGIN:DAYLIGHT
TZOFFSETFROM:+0100
TZOFFSETTO:+0200
TZNAME:CEST
DTSTART:20220327T010000
END:DAYLIGHT
BEGIN:STANDARD
TZOFFSETFROM:+0200
TZOFFSETTO:+0100
TZNAME:CET
DTSTART:20221030T010000
END:STANDARD
BEGIN:DAYLIGHT
TZOFFSETFROM:+0100
TZOFFSETTO:+0200
TZNAME:CEST
DTSTART:20230326T010000
END:DAYLIGHT
BEGIN:STANDARD
TZOFFSETFROM:+0200
TZOFFSETTO:+0100
TZNAME:CET
DTSTART:20231029T010000
END:STANDARD
BEGIN:DAYLIGHT
TZOFFSETFROM:+0100
TZOFFSETTO:+0200
TZNAME:CEST
DTSTART:20240331T010000
END:DAYLIGHT
BEGIN:STANDARD
TZOFFSETFROM:+0200
TZOFFSETTO:+0100
TZNAME:CET
DTSTART:20241027T010000
END:STANDARD
END:VTIMEZONE
BEGIN:VEVENT
DTSTART;TZID=Europe/Zurich:20230709T210000
DTEND;TZID=Europe/Zurich:20230709T220000
DTSTAMP:20260424T093610
CREATED:20230515T105356Z
LAST-MODIFIED:20230606T213634Z
UID:29041-1688936400-1688940000@alterartfestival.it
SUMMARY:Performance Urban Dance e Hip-Hop con Red Friky Hey
DESCRIPTION:Performance di Urban dance Hip-Hop “Immagina se tu…anzi\, prova!” È uno spettacolo di danza street\, contemporanea e sperimentazione. Viaggia nella mente autistica\, raccontando l’ autismo attraverso il corpo\, la musica e le parole di una persona autistica: Red Friky Hey- \n\n\n\n\n 
URL:https://alterartfestival.it/programma/urban-dance-e-hip-hop-con-red-friky-hey-9-7-2023/
LOCATION:Piazza Garibaldi\, Piazza Garibaldi\, Pergola\, Pesaro e Urbino (PU)\, 61045\, Italia
CATEGORIES:Performance e spettacolo
ATTACH;FMTTYPE=image/jpeg:https://alterartfestival.it/wp-content/uploads/2023/05/red_alterart.jpeg
ORGANIZER;CN="Alter-Art Festival":MAILTO:ijshaamanka@gmail.com
END:VEVENT
END:VCALENDAR