BEGIN:VCALENDAR
VERSION:2.0
PRODID:-//AlterArt Festival - ECPv6.15.20//NONSGML v1.0//EN
CALSCALE:GREGORIAN
METHOD:PUBLISH
X-WR-CALNAME:AlterArt Festival
X-ORIGINAL-URL:https://alterartfestival.it
X-WR-CALDESC:Eventi per AlterArt Festival
REFRESH-INTERVAL;VALUE=DURATION:PT1H
X-Robots-Tag:noindex
X-PUBLISHED-TTL:PT1H
BEGIN:VTIMEZONE
TZID:Europe/Zurich
BEGIN:DAYLIGHT
TZOFFSETFROM:+0100
TZOFFSETTO:+0200
TZNAME:CEST
DTSTART:20230326T010000
END:DAYLIGHT
BEGIN:STANDARD
TZOFFSETFROM:+0200
TZOFFSETTO:+0100
TZNAME:CET
DTSTART:20231029T010000
END:STANDARD
BEGIN:DAYLIGHT
TZOFFSETFROM:+0100
TZOFFSETTO:+0200
TZNAME:CEST
DTSTART:20240331T010000
END:DAYLIGHT
BEGIN:STANDARD
TZOFFSETFROM:+0200
TZOFFSETTO:+0100
TZNAME:CET
DTSTART:20241027T010000
END:STANDARD
BEGIN:DAYLIGHT
TZOFFSETFROM:+0100
TZOFFSETTO:+0200
TZNAME:CEST
DTSTART:20250330T010000
END:DAYLIGHT
BEGIN:STANDARD
TZOFFSETFROM:+0200
TZOFFSETTO:+0100
TZNAME:CET
DTSTART:20251026T010000
END:STANDARD
END:VTIMEZONE
BEGIN:VEVENT
DTSTART;TZID=Europe/Zurich:20241007T080000
DTEND;TZID=Europe/Zurich:20241013T170000
DTSTAMP:20260424T142306
CREATED:20241105T165504Z
LAST-MODIFIED:20241105T165504Z
UID:29583-1728288000-1728838800@alterartfestival.it
SUMMARY:Drogheria Rebelot-residenza artistica presso A.R.Y.A Artistic Residence Yurt Appennine
DESCRIPTION:Con grande piacere abbiamo ospitato per una intera settimana la compagnia di teatro di figura Drogheria Rebelot di Milano in collaborazione con Fondazione TRG di Torino all’interno del bando accessibilità del Ministero della Cultura Italiano.In questa settimana di intenso lavoro Andre Rizzo\,Andrea Munes e Miriam Castamagna hanno lavorato a fianco della coreografa Monia Mattioli e i componenti della compagnia Dance In per migliorare e ampliare l’offerta artistica dello spettacolo Hope Trees che circuiterà sul territorio italiano nel 2025 .
URL:https://alterartfestival.it/programma/drogheria-rebelot-residenza-artistica-presso-a-r-y-a-artistic-residence-yurt-appennine/
LOCATION:A.R.Y.A.\, Via Frazione Montaiate\, 10\, Pergola\, PU\, 61045\, Italia
CATEGORIES:Incontri in Yurta,Laboratorio
ATTACH;FMTTYPE=image/jpeg:https://alterartfestival.it/wp-content/uploads/2024/11/foto-di-gruppo.jpg
END:VEVENT
END:VCALENDAR