BEGIN:VCALENDAR
VERSION:2.0
PRODID:-//AlterArt Festival - ECPv6.15.20//NONSGML v1.0//EN
CALSCALE:GREGORIAN
METHOD:PUBLISH
X-ORIGINAL-URL:https://alterartfestival.it
X-WR-CALDESC:Eventi per AlterArt Festival
REFRESH-INTERVAL;VALUE=DURATION:PT1H
X-Robots-Tag:noindex
X-PUBLISHED-TTL:PT1H
BEGIN:VTIMEZONE
TZID:Europe/Zurich
BEGIN:DAYLIGHT
TZOFFSETFROM:+0100
TZOFFSETTO:+0200
TZNAME:CEST
DTSTART:20230326T010000
END:DAYLIGHT
BEGIN:STANDARD
TZOFFSETFROM:+0200
TZOFFSETTO:+0100
TZNAME:CET
DTSTART:20231029T010000
END:STANDARD
BEGIN:DAYLIGHT
TZOFFSETFROM:+0100
TZOFFSETTO:+0200
TZNAME:CEST
DTSTART:20240331T010000
END:DAYLIGHT
BEGIN:STANDARD
TZOFFSETFROM:+0200
TZOFFSETTO:+0100
TZNAME:CET
DTSTART:20241027T010000
END:STANDARD
BEGIN:DAYLIGHT
TZOFFSETFROM:+0100
TZOFFSETTO:+0200
TZNAME:CEST
DTSTART:20250330T010000
END:DAYLIGHT
BEGIN:STANDARD
TZOFFSETFROM:+0200
TZOFFSETTO:+0100
TZNAME:CET
DTSTART:20251026T010000
END:STANDARD
END:VTIMEZONE
BEGIN:VEVENT
DTSTART;TZID=Europe/Zurich:20240704T170000
DTEND;TZID=Europe/Zurich:20240707T213000
DTSTAMP:20260424T171851
CREATED:20240129T115438Z
LAST-MODIFIED:20240129T115438Z
UID:29497-1720112400-1720387800@alterartfestival.it
SUMMARY:Mostra espositiva di Micro Arte Visiva a cura del Liceo Artistico Manucci di Fabriano
DESCRIPTION:“Ciò che non hai mai visto lo trovi dove non sei mai stato”\nProverbio africano \nCon “Le Colonne d’Ercole” si conclude la tetralogia di “Vedere Oltre”\, un progetto artistico nato quattro anni fa in collaborazione con Alter art Festival.\nSiamo giunti all’Epilogo\, ovvero al capitolo finale di un percorso che si è evoluto con gradualità e lentezza\, spostando sempre più in là il nostro punto di vista oltre il cosiddetto Mare Nostrum\, il mare che si conosce\, verso la scoperta dell’ignoto.Nei precedenti tre anni abbiamo affrontato un viaggio meraviglioso navigando tra contestualità sempre diverse: la disabilità e la diversità\, i sensi\, l’adolescenza e l’ambiente\, ovvero tutto ciò che dà significato alla nostra esistenza come essere umani.Per farlo abbiamo fin da subito cercato di Vedere Oltre le Colonne d’Ercole immaginando ciò che non avevamo mai esplorato profondamente\, così come nell’antichità il pensiero di farlo aveva affascinato artisti e scrittori: per Platone\, oltre le Colonne\, si doveva trovare la leggendaria isola di Atlantide\, mentre per Dante si ergeva il monte del Purgatorio.\nNoi l’abbiamo fatto indagando tra culture differenti\, passate e presenti\, tra arte e scienza\, tra mitologie e fedi anche molto lontane tra di loro\, scoprendo che l’elemento che accomuna da sempre tutti gli esseri viventi è l’acqua\, essenza della vita e per questo Musa ispiratrice e presenza costante delle nostre mostre.Non ci resta\, quest’anno\, che invitarvi ancora una volta a varcare la soglia di San Rocco\, nelle cui “acque” non abitano mostri\, bensì tutti noi\, per ricordarci che le vere Colonne d’Ercole stanno solo dentro le nostre teste\, pronte a mostrarsi come un limite da non oltrepassare quando quello che non conosciamo suscita timore e false convinzioni. \nIl progetto viene coordinato e diretto dal Prof. Marco Giombini \nDal 4 al 7 luglio \nSpazio San Rocco \, Pergola \nIngresso libero
URL:https://alterartfestival.it/programma/cio-che-non-hai-mai-visto-lo-trovi-dove-non-sei-mai-stato-proverbio-africano/
LOCATION:Sala San Rocco\, Via Silvio Pellico\, 15\, Pergola\, Pesaro e Urbino (PU)\, 61045\, Italia
CATEGORIES:Esposizione
ATTACH;FMTTYPE=image/jpeg:https://alterartfestival.it/wp-content/uploads/2024/01/MANIFESTO-MOSTRA-Le-Colonne-dErcole-3-scaled.jpg
END:VEVENT
BEGIN:VEVENT
DTSTART;VALUE=DATE:20240707
DTEND;VALUE=DATE:20240708
DTSTAMP:20260424T171851
CREATED:20240129T130842Z
LAST-MODIFIED:20240423T190729Z
UID:29507-1720310400-1720396799@alterartfestival.it
SUMMARY:Fossick Project Festa Finale di Chiusura del Festival
DESCRIPTION:Perdersi sottoterra\, vedere nel buio e muoversi scavando\,\ncome una talpa o come l’invertebrato tardigrado\, capace di\nsopravvivere in mancanza d’acqua e ossigeno. Prodotto grazie\nalla residenza “Humus” presso IAC Matera\, a partire da una\nricerca inziata in collaborazione con FAO (Food and Agriculture\nOrganization of the United Nations)\, Underneath è uno\nspettacolo dedicato al suolo\, ambiente misterioso\, prezioso e\ndi difficile osservazione\, tanto essenziale per la vita sulla Terra\nquanto minacciato dal comportamento dell’uomo. Grazie a un\npaio di stivali magici e all’aiuto degli animali del Parco della\nMurgia Materana\, la bambina protagonista parte per un viaggio\nsotto terra alla ricerca di una soluzione alla siccità che ha\ncolpito la terra\, per ristabilire l’equilibrio nell’ecosistema.\nUna storia che propone a una nuova presa di coscienza sul\nprogresso agricolo e sul cambiamento climatico\, invitando a\nriflettere sul ruolo di ognuno nella costruzione di un mondo\nsostenibile.\nCon un viaggio musicale e portando in scena una forma\ncontemporanea di teatro delle ombre\, Fossick Project\nracconta storie ispirate ai paesaggi del mondo alle specie\nanimali in pericolo di estinzione\, evocando le loro fragilità e\ninvitando il pubblico a riflettere sul rapporto dell’uomo con la\nmadre Terra. Gli spettacoli dal vivo consistono nell’animazione\nanalogica di Cecilia Valagussa sulla lavagna luminosa\, sulla\nquale sposta i personaggi disegnati su ritagli di pellicola\ncolorata e altri materiali come sabbia\, acqua e piccoli oggetti.\nMarta Del Grandi scrive canzoni e brani strumentali in cui la\nvoce si combina a sintetizzatori\, chitarre\, ritmi e campioni\nsonori dei luoghi in cui vengono ambientati gli spettacoli. \n 
URL:https://alterartfestival.it/programma/stiamo-lavorando-ad-una-festa-finale-a-sorpresa-che-possa-coinvolgere-tutti-i-partecipanti-di-questa-edizione-2024-e-che-possa-lasciare-un-messaggio-profondo-a-tutti-gli-intervenuti-da-portare-con-se/
LOCATION:A.R.Y.A.\, Via Frazione Montaiate\, 10\, Pergola\, PU\, 61045\, Italia
CATEGORIES:Concerto,Performance e spettacolo
ATTACH;FMTTYPE=image/jpeg:https://alterartfestival.it/wp-content/uploads/2024/01/UNDERNEATH4-1-scaled.jpg
ORGANIZER;CN="Alter-Art Festival":MAILTO:ijshaamanka@gmail.com
END:VEVENT
END:VCALENDAR