BEGIN:VCALENDAR
VERSION:2.0
PRODID:-//AlterArt Festival - ECPv6.15.20//NONSGML v1.0//EN
CALSCALE:GREGORIAN
METHOD:PUBLISH
X-ORIGINAL-URL:https://alterartfestival.it
X-WR-CALDESC:Eventi per AlterArt Festival
REFRESH-INTERVAL;VALUE=DURATION:PT1H
X-Robots-Tag:noindex
X-PUBLISHED-TTL:PT1H
BEGIN:VTIMEZONE
TZID:Europe/Zurich
BEGIN:DAYLIGHT
TZOFFSETFROM:+0100
TZOFFSETTO:+0200
TZNAME:CEST
DTSTART:20230326T010000
END:DAYLIGHT
BEGIN:STANDARD
TZOFFSETFROM:+0200
TZOFFSETTO:+0100
TZNAME:CET
DTSTART:20231029T010000
END:STANDARD
BEGIN:DAYLIGHT
TZOFFSETFROM:+0100
TZOFFSETTO:+0200
TZNAME:CEST
DTSTART:20240331T010000
END:DAYLIGHT
BEGIN:STANDARD
TZOFFSETFROM:+0200
TZOFFSETTO:+0100
TZNAME:CET
DTSTART:20241027T010000
END:STANDARD
BEGIN:DAYLIGHT
TZOFFSETFROM:+0100
TZOFFSETTO:+0200
TZNAME:CEST
DTSTART:20250330T010000
END:DAYLIGHT
BEGIN:STANDARD
TZOFFSETFROM:+0200
TZOFFSETTO:+0100
TZNAME:CET
DTSTART:20251026T010000
END:STANDARD
END:VTIMEZONE
BEGIN:VEVENT
DTSTART;TZID=Europe/Zurich:20240413T100000
DTEND;TZID=Europe/Zurich:20240414T180000
DTSTAMP:20260425T041913
CREATED:20240129T094642Z
LAST-MODIFIED:20240129T101002Z
UID:29470-1713002400-1713117600@alterartfestival.it
SUMMARY:Agricultura naturale e i principi del non fare di Masanubu Fukoka con Kutluhan Ozdemir
DESCRIPTION:Kutluhan è un contadino turco-curdo che dedica la sua vita alla diffusione della filosofia e della pratica dell’agricoltura naturale secondo Masanobu Fukuoka. Ha praticato agricoltura naturale negli ultimi 9 anni\, prima incontrando studenti diretti di Fukuoka durante i viaggi in Sud America\, poi vivendo nella fattoria naturale di Panos Manikis a Edessa\, in Grecia\, e ora coltivando nella sua fattoria nelle Marche\, in Italia. Tomoko Masuda porterà la parte filosofica dell’agricoltura naturale.Il workshop si svolgerà il 13 e 14 aprile. \nSabato (teoria)\nMattino dalle 10:00 : fertilità del suolo e non aratura\, scelta di un terreno\, il risveglio del suolo\,\ngestione delle erbe spontanee e non diserbo\, pacciamatura\, abbondanza e\nautosufficienza\, differenza tra agricoltura convenzionale\, biologica e naturale\,\ngestione economica della fattoria naturale.\nPomeriggio  : alberi\, forma naturale degli alberi\, metodi di riproduzione\, potatura e\nnon potatura\, tipi di innesto\, irrigazione e non irrigazione\, “non fare”.\nDomenica (teoria e pratica)\nMattino :\nTeoria (filosofia dell’agricoltura naturale + orto naturale\, ciclo di 1 anno e di 4 anni)\nPratica (preparazione dell’orto naturale con i partecipanti)\nPomeriggio :\nTeoria (semi e palline di semi)\nPratica (preparazione delle palline di semi con i partecipanti) \nSarà possibile condividere il pranzi delle due giornate portando ognuno qualcosa \nCosto: è richiesto un tesseramento temporaneo di 5 € per associazione ijshaamanka \nil costo del laboratorio è a offerta libera per l’associazione R.A.N – Rete Agricoltura Naturale \nPer iscrizioni e ricevere tutte le info inerenti al corso mandare una mail a : ijshaamanka@gmail.com \n 
URL:https://alterartfestival.it/programma/kutluhan-e-un-contadino-turco-curdo-che-dedica-la-sua-vita-alla-diffusione-della-filosofia-e-della-pratica-dellagricoltura-naturale-secondo-masanobu-fukuoka-ha-praticato-agricoltura-naturale-negli/
LOCATION:a.r.y.a Artistic yurt residence appennin\, frazione montaiate 10\, pergola\, pesaro urbino\, 61045\, Italia
CATEGORIES:Incontri in Yurta,Laboratorio
ATTACH;FMTTYPE=image/jpeg:https://alterartfestival.it/wp-content/uploads/2024/01/kutluan.jpg
ORGANIZER;CN="Alter-Art Festival":MAILTO:ijshaamanka@gmail.com
END:VEVENT
END:VCALENDAR